BEGIN:VCALENDAR
VERSION:2.0
PRODID:icalendar-ruby
CALSCALE:GREGORIAN
METHOD:PUBLISH
BEGIN:VEVENT
DTSTAMP:20260421T083047Z
UID:7-305232@mycowboychurch.com
DTSTART:20261004T154500Z
DTEND:20261004T164500Z
CLASS:PUBLIC
CREATED:20260420T202055
DESCRIPTION:Sunday Services
LAST-MODIFIED:20260420T202055
LOCATION:16 S. Wesley St.\, Mt. Morris\, IL
SUMMARY:Sunday Services
URL;VALUE=URI:https://mycowboychurch.com/events/sunday-services/2026-10-04
END:VEVENT
END:VCALENDAR
