BEGIN:VCALENDAR
VERSION:2.0
PRODID:icalendar-ruby
CALSCALE:GREGORIAN
METHOD:PUBLISH
BEGIN:VEVENT
DTSTAMP:20260423T082736Z
UID:7-306445@mycowboychurch.com
DTSTART:20261011T154500Z
DTEND:20261011T164500Z
CLASS:PUBLIC
CREATED:20260422T221636
DESCRIPTION:Sunday Services
LAST-MODIFIED:20260422T221636
LOCATION:16 S. Wesley St.\, Mt. Morris\, IL
SUMMARY:Sunday Services
URL;VALUE=URI:https://mycowboychurch.com/events/sunday-services/2026-10-11
END:VEVENT
END:VCALENDAR
