BEGIN:VCALENDAR
VERSION:2.0
PRODID:icalendar-ruby
CALSCALE:GREGORIAN
METHOD:PUBLISH
BEGIN:VEVENT
DTSTAMP:20260421T125656Z
UID:7-305337@mycowboychurch.com
DTSTART:20261101T164500Z
DTEND:20261101T174500Z
CLASS:PUBLIC
CREATED:20260421T072830
DESCRIPTION:Sunday Services
LAST-MODIFIED:20260421T072830
LOCATION:16 S. Wesley St.\, Mt. Morris\, IL
SUMMARY:Sunday Services
URL;VALUE=URI:https://mycowboychurch.com/events/sunday-services/2026-11-01
END:VEVENT
END:VCALENDAR
