BEGIN:VCALENDAR
VERSION:2.0
PRODID:icalendar-ruby
CALSCALE:GREGORIAN
METHOD:PUBLISH
BEGIN:VEVENT
DTSTAMP:20260423T152756Z
UID:5-306501@mycowboychurch.com
DTSTART:20260920T150000Z
DTEND:20260920T160000Z
CLASS:PUBLIC
CREATED:20260423T074651
DESCRIPTION:Sunday Worship
LAST-MODIFIED:20260423T074651
LOCATION:
SUMMARY:Sunday Worship
URL;VALUE=URI:https://mycowboychurch.com/events/sunday-worship/2026-09-20
END:VEVENT
END:VCALENDAR
