BEGIN:VCALENDAR
VERSION:2.0
PRODID:icalendar-ruby
CALSCALE:GREGORIAN
METHOD:PUBLISH
BEGIN:VEVENT
DTSTAMP:20260423T205505Z
UID:5-306707@mycowboychurch.com
DTSTART:20261018T150000Z
DTEND:20261018T160000Z
CLASS:PUBLIC
CREATED:20260423T133614
DESCRIPTION:Sunday Worship
LAST-MODIFIED:20260423T133614
LOCATION:
SUMMARY:Sunday Worship
URL;VALUE=URI:https://mycowboychurch.com/events/sunday-worship/2026-10-18
END:VEVENT
END:VCALENDAR
