BEGIN:VCALENDAR
VERSION:2.0
PRODID:icalendar-ruby
CALSCALE:GREGORIAN
METHOD:PUBLISH
BEGIN:VEVENT
DTSTAMP:20260423T234228Z
UID:5-306810@mycowboychurch.com
DTSTART:20261101T160000Z
DTEND:20261101T170000Z
CLASS:PUBLIC
CREATED:20260423T163045
DESCRIPTION:Sunday Worship
LAST-MODIFIED:20260423T163045
LOCATION:
SUMMARY:Sunday Worship
URL;VALUE=URI:https://mycowboychurch.com/events/sunday-worship/2026-11-01
END:VEVENT
END:VCALENDAR
